Workbook

Sheet Einstellblatt Einspeiseanlage
A1: Einstellparameter Einspeiseanlage Mittelspannungsanlage
A2: Für Kunden - Einspeisestationen einer 3 stelligen Stationsnummer mit der Anfangsziffer 9 oder 4
B6: Hier Daten eingeben
AA7: DATENFELD (Buttons)
C8: Generatortype | E8: LVRT - Fähigkeit | G8: Messspannung | I8: Region | L8: Trafo-Übersetzung | AH8: Spg.-Werte | AI8: Trafoübersetzungsgrenzen
AA9: 1 | AB9: 1 | AC9: 2 | AD9: 10
L10: 70 | AA10: Synchron | AB10: ja | AC10: Niederspannungsebene | AD10: 30kV Bregenzerwald | AH10: 28571 | AI10: 65 | AJ10: 75
AA11: Asynchron | AB11: nein | AC11: Mittelspannungsebene | AD11: 10kV Rheintal | AH11: 10700 | AI11: 20 | AJ11: 30
AA12: Wechselrichter | AD12: 20kV Bludenz Bürs Bürserb. Brandnertal Nenzing | AH12: 20000 | AI12: 45 | AJ12: 60
C13: Anlage | E13: Anlagenname | G13: Notizen | AD13: 20kV Leiblachtal | AH13: 20000 | AI13: 45 | AJ13: 60
AA14: #1 | AB14: #2 | AC14: #3 | AD14: 30kV Walgau | AH14: 28571 | AI14: 65 | AJ14: 75
AD15: 10kV Walgau | AH15: 10700 | AI15: 20 | AJ15: 30
AD16: 30kV Klostertal | AH16: 28571 | AI16: 65 | AJ16: 75
AD17: 20kV St Gallenkirch Gaschurn | AH17: 20800 | AI17: 45 | AJ17: 60
AD18: 20kV Lorüns Vandans Tschagguns Golm | AH18: 20800 | AI18: 45 | AJ18: 60
AD19: 20kV Tschagguns Schruns Gamprätz | AH19: 20800 | AI19: 45 | AJ19: 60
B20: Informationen zur Ausgabe | AD20: 30kV Großwalsertal | AH20: 28571 | AI20: 65 | AJ20: 75
C22: =AC52 -> Info: Sie können Ihrem Dokument noch optional 'Anlage' 'Anlagenname' 'Notizen' als Information hinzufügen | AD22: #4
AA24: Werteberechnung
B25: Hier erfolgt die Datenausgabe
AA26: {=INDEX(AH10:AH20,AD9)} -> 20800 | AB26: =IF(AC9=2,IF(AA26<=12000, 100, IF(AA26>=25000, 300, 200)),"[x]") -> 200 | AC26: =AA26/L10 -> 297.14286 | AD26: =AC26/SQRT(3) -> 171.55551 | AE26: =L10 -> 70 | AF26: {=INDEX(AI10:AI20,AD9)} -> 45 | AG26: {=INDEX(AJ10:AJ20,AD9)} -> 60
C27: Eingabe am Einstellblatt | AA27: UC | AB27: Wandler-Ü | AC27: Normalwert UL1-L1 | AD27: Normalwert UL1-N | AE27: Trafo-Ü | AF27: Trafo-Ü min | AG27: Trafo-Ü max
AG28: max
C29: =IF(ISNUMBER(SEARCH("Fehler",$C$22)), C22, AA52) -> Der gewählte LVRT-fähige Synchron-Generator befindet sich auf der Spannungsebene der 20kV Tschagguns Schruns Gamprätz. Es wird für die Wandler-Übersetzung in dieser Region standardmäßig 200 angenommen. Die Werte beziehen sich auf die Messspannung von 100V, die Messung erfolgt Mittelspannungsseitig.
AA31: Schutzfunktionswerte
AA33: Schutzfunktion | AC33: f (aus) | AD33: f (wieder ein) | AE33: t (sec) | AF33: Spannung (MS-Seitig, V) | AH33: UL-L (V) | AJ33: UL-N (V)
C34: Anlage: | E34: =IF(C15<>"", C15, "nicht spezifiziert") -> nicht spezifiziert
C35: Anlagenname: | E35: =IF(E15<>"", E15, "nicht spezifiziert") -> nicht spezifiziert | AA35: U > | AC35: 1.07 | AE35: 60 | AF35: =$AA$26*AC35 -> 22256 | AH35: =AF35/$AE$26 -> 317.94286 | AJ35: =AH35/SQRT(3) -> 183.56439
AD36: 1.06 | AF36: =$AA$26*AD36 -> 22048 | AH36: =AF36/$AE$26 -> 314.97143 | AJ36: =AH36/SQRT(3) -> 181.84884
AA37: U >> | AC37: 1.1 | AE37: 0.1 | AF37: =$AA$26*AC37 -> 22880 | AH37: =AF37/$AE$26 -> 326.85714 | AJ37: =AH37/SQRT(3) -> 188.71106
C38: Spannungsabhängige Schutzfunktionen | AD38: 1.06 | AF38: =$AA$26*AD36 -> 22048 | AH38: =AF38/$AE$26 -> 314.97143 | AJ38: =AH38/SQRT(3) -> 181.84884
AA39: U < | AC39: =IF(AA9=1, 0.7, 0.8) -> 0.7 | AE39: =IF(AB9=2, 0.1, IF(AA9=1, 1, 1.5)) -> 1 | AF39: =$AA$26*AC39 -> 14560 | AH39: =AF39/$AE$26 -> 208 | AJ39: =AH39/SQRT(3) -> 120.08886
C40: Schutzfunktionen | E40: Bezeichnung | I40: Einstellwert | J40: Zeit | K40: Spannung | AD40: 0.9 | AF40: =$AA$26*AD40 -> 18720 | AH40: =AF40/$AE$26 -> 267.42857 | AJ40: =AH40/SQRT(3) -> 154.39996
AA41: U << | AC41: 0.3 | AE41: =IF(AB9=2, "Entfällt", IF(AA9=1, 0.2, 0.5)) -> 0.2 | AF41: =$AA$26*AC41 -> 6240 | AH41: =AF41/$AE$26 -> 89.142857 | AJ41: =AH41/SQRT(3) -> 51.466653
C42: 1. Überspannungsstufe | E42: Auslösung | I42: =IF(ISNUMBER(SEARCH("Fehler",$C$22)), "", ROUND(IF($AC$9=1,AJ35/IF(AC9=1, 230, 100),(AF35/AB26)/IF(AC9=1, 230, 100)), 3)) -> 1.113 | J42: =IF(ISNUMBER(SEARCH("Fehler",$C$22)), "", AE35) -> 60 | K42: =IF(ISNUMBER(SEARCH("Fehler",$C$22)), "", IF($AC$9=1,AJ35,AF35/AB26)) -> 111.28 | AD42: 0.9 | AF42: =$AA$26*AD42 -> 18720 | AH42: =AF42/$AE$26 -> 267.42857 | AJ42: =AH42/SQRT(3) -> 154.39996
C43: U > | E43: Wiederzuschaltbedingung | I43: =IF(ISNUMBER(SEARCH("Fehler",$C$22)), "", ROUND((I42-0.01), 3)) -> 1.103 | J43: =IF(ISNUMBER(SEARCH("Fehler",$C$22)), "", "oder 10 min Mittelwert") -> oder 10 min Mittelwert | AA43: f > | AC43: 51.5 | AE43: 0.1
AD44: 50.1
C45: 2. Überspannungsstufe | E45: Auslösung | I45: =IF(ISNUMBER(SEARCH("Fehler",$C$22)), "", ROUND(IF($AC$9=1,AJ37/IF(AC9=1, 230, 100),(AF37/AB26)/IF(AC9=1, 230, 100)), 3)) -> 1.144 | J45: =IF(ISNUMBER(SEARCH("Fehler",$C$22)), "", AE37) -> 0.1 | K45: =IF(ISNUMBER(SEARCH("Fehler",$C$22)), "", IF($AC$9=1,AJ37,AF37/AB26)) -> 114.4 | AA45: f < | AC45: 47.5 | AE45: 0.1
C46: U >> | E46: Wiederzuschaltbedingung | I46: =IF(ISNUMBER(SEARCH("Fehler",$C$22)), "", ROUND(I43, 3)) -> 1.103 | AD46: 47.513
C48: 1. Unterspannungsstufe | E48: Auslösung | I48: =IF(ISNUMBER(SEARCH("Fehler",$C$22)), "", ROUND(IF($AC$9=1,AJ39/IF(AC9=1, 230, 100),(AF39/AB26)/IF(AC9=1, 230, 100)), 3)) -> 0.728 | J48: =IF(ISNUMBER(SEARCH("Fehler",$C$22)), "", AE39) -> 1 | K48: =IF(ISNUMBER(SEARCH("Fehler",$C$22)), "", IF($AC$9=1,AJ39,AF39/AB26)) -> 72.8
...

Sheet Genaue Daten
C3: Datenfeld (Auswahlmöglichkeiten der Drop-down-Felder)
C5: ='Einstellblatt Einspeiseanlage'!AA9 -> 1 | D5: ='Einstellblatt Einspeiseanlage'!AB9 -> 1 | E5: ='Einstellblatt Einspeiseanlage'!AC9 -> 2 | F5: ='Einstellblatt Einspeiseanlage'!AD9 -> 10
C6: Asynchron | D6: ja | E6: Niederspannung | F6: Region Bregenzerwald 30kV | J6: 28571
C7: Synchron | D7: nein | E7: Mittelspannung | F7: Region Rheintal 10kV | J7: 10700
C8: Wechselrichter | F8: Region Bludenz Bürs Bürserberg Brandnertal Nenzing 20kV | J8: 20000
F9: Region Leiblachtal 20kV | J9: 20000
F10: Region Walgau 30kV | J10: 28571
F11: Region Walgau 10kV | J11: 10700
F12: Region Klostertal 30kV | J12: 28571
F13: Region St Gallenkirch Gaschurn 20kV | J13: 20800
F14: Region Lorüns Vandans und Tschagguns Golm 20kV | J14: 20800
F15: Region Tschagguns Schruns Gamprätz 20kV | J15: 20800
C17: {=IF(C5=0,"Fehler",INDEX(C6:C9,C5))} -> Asynchron | D17: {=IF(C5=0,"Fehler",INDEX(D6:D7,D5))} -> ja | E17: {=IF(C5=0,"Fehler",INDEX(E6:E7,E5))} -> Mittelspannung | F17: {=IF(C5=0,"Fehler",INDEX(F6:F15,F5))} -> Region Tschagguns Schruns Gamprätz 20kV | J17: {=IF(C5=0,"Fehler",INDEX(J6:J15,F5))} -> 20800
C20: Allgemeine Werteberechnungen
C22: {=IF(C5=0,"Fehler",INDEX(J6:J15,F5))} -> 20800 | D22: =IF(E5=2,IF(C22<=12000, 100, IF(C22>=25000, 300, 200)),"Entfällt") -> 200 | E22: =IF(C22="Fehler", "Fehler", C22/'Einstellblatt Einspeiseanlage'!L10) -> 297.14286 | F22: =IF(C22="Fehler", "Fehler", E22/SQRT(3)) -> 171.55551 | G22: ='Einstellblatt Einspeiseanlage'!L10 -> 70
C23: UC | D23: Wandler-Ü | E23: Normalwert UL1-L1 | F23: Normalwert UL1-N | G23: Trafo-Ü
C27: Schutzfunktionswerte
F28: f (Wiederzuschaltung)
C29: Schutzfunktion | E29: f (Auslösung) | G29: t (sec) | H29: Spannung (MS-Seitig, V) | J29: UL-L (V) | L29: UL-N (V)
C31: U > | E31: 1.07 | G31: 60 | H31: =IF(C22="Fehler", "Fehler", $C$22*E31) -> 22256 | J31: =IF(C22="Fehler", "Fehler", H31/$G$22) -> 317.94286 | L31: =IF(C22="Fehler", "Fehler", J31/SQRT(3)) -> 183.56439
F32: 1.06 | H32: =IF(C22="Fehler", "Fehler", $C$22*F32) -> 22048 | J32: =IF(C22="Fehler", "Fehler", H32/$G$22) -> 314.97143 | L32: =IF(C22="Fehler", "Fehler", J32/SQRT(3)) -> 181.84884
C33: U >> | E33: 1.1 | G33: 0.1 | H33: =IF(C22="Fehler", "Fehler", $C$22*E33) -> 22880 | J33: =IF(C22="Fehler", "Fehler", H33/$G$22) -> 326.85714 | L33: =IF(C22="Fehler", "Fehler", J33/SQRT(3)) -> 188.71106
F34: 1.06 | H34: =IF(C22="Fehler", "Fehler", $C$22*F34) -> 22048 | J34: =IF(C22="Fehler", "Fehler", H34/$G$22) -> 314.97143 | L34: =IF(C22="Fehler", "Fehler", J34/SQRT(3)) -> 181.84884
C35: U < | E35: =IF(C5<>1, 0.7, 0.8) -> 0.8 | G35: =IF(D5=2, 0.1, IF(C5<>1, 1, 1.5)) -> 1.5 | H35: =IF(C22="Fehler", "Fehler", $C$22*E35) -> 16640 | J35: =IF(C22="Fehler", "Fehler", H35/$G$22) -> 237.71429 | L35: =IF(C22="Fehler", "Fehler", J35/SQRT(3)) -> 137.24441
F36: 0.9 | H36: =IF(C22="Fehler", "Fehler", $C$22*F36) -> 18720 | J36: =IF(C22="Fehler", "Fehler", H36/$G$22) -> 267.42857 | L36: =IF(C22="Fehler", "Fehler", J36/SQRT(3)) -> 154.39996
C37: U << | E37: 0.3 | G37: =IF(D5=2, "Entfällt", IF(C5<>1, 0.2, 0.5)) -> 0.5 | H37: =IF(C22="Fehler", "Fehler", $C$22*E37) -> 6240 | J37: =IF(C22="Fehler", "Fehler", H37/$G$22) -> 89.142857 | L37: =IF(C22="Fehler", "Fehler", J37/SQRT(3)) -> 51.466653
F38: 0.9 | H38: =IF(C22="Fehler", "Fehler", $C$22*F38) -> 18720 | J38: =IF(C22="Fehler", "Fehler", H38/$G$22) -> 267.42857 | L38: =IF(C22="Fehler", "Fehler", J38/SQRT(3)) -> 154.39996
C39: f > | E39: 51.5 | G39: 0.1
F40: 50.1
C41: f < | E41: 47.5 | G41: 0.1
F42: 47.513
C43: =IF(D5=1,"Frequenzauslösung Spannungsabhängig einstellen","") -> Frequenzauslösung Spannungsabhängig einstellen
C46: Informationswerte
C48: Ausgabetext | E48: =_xlfn.CONCAT(IF(C5<>3, "Der gewählte ", "Die gewählte "), IF(D5=1, "LVRT-fähige ", "NICHT LVRT-fähige "), IF(C5<>3, _xlfn.CONCAT(E51, "-Generator"), _xlfn.CONCAT(E51, "-Anlage")), IF(D5=2, " (ACHTUNG: LVRT-Fähigkeit muss bei Anlagen ab Inbetriebnahmedatum 01.01.2021 ausgeführt sein!)",""), ", befindet sich in der Spannungsebene der ", IF(F5>0,INDEX(F6:F15,F5),"Region [Fehler]"), ". ", IF(E5 = 1, _xlfn.CONCAT("Die Trafo-Übersetzung beträgt ", G22), _xlfn.CONCAT("Es wird für die Wandler-Übersetzung in dieser Region standardmäßig ", D22, " angenommen")), ". ", "Die Werte beziehen sich auf die Nennspannung von ", IF(E5 = 1, "230V", "100V"), ", die Spannungsmessung erfolgt ", IF(E5=1, "Niederspannungsseitig", "Mittelspannungsseitig"), ".") -> Der gewählte LVRT-fähige Asynchron-Generator, befindet sich in der Spannungsebene der Region Tschagguns Schruns Gamprätz 20kV. Es wird für die Wandler-Übersetzung in dieser Region standardmäßig 200 angenommen. Die Werte beziehen sich auf die Nennspannung von 100V, die Spannungsmessung erfolgt Mittelspannungsseitig.
C51: Info Generatortype | E51: {=IF(C5>0,_xlfn.SWITCH(C5, 1, C6, 2, C7, 3, C8),"Fehler")} -> Asynchron
O54: {=IF(IFERROR(E48, 1)="", "Fehler: Berechnung versagt", IF(C5="", "Fehler: Bitte Generatortype wählen", IF(D5="", "Fehler: Bitte LVRT-Fähigkeit wählen", IF(E5="", "Fehler: Bitte Messspannung wählen", IF(F5="", "Fehler: Bitte Region wählen", IF(AND(Q22<1, E5 = 1), "Fehler: Bitte Transformator-Übersetzung wählen", IF(D5=2,"ACHTUNG! LVRT-Fähigkeit wurde auf NEIN gestellt!", IF(OR('Einstellblatt Einspeiseanlage'!M15:M17="",'Einstellblatt Einspeiseanlage'!O15:O17= "",'Einstellblatt Einspeiseanlage'!Q15:V17= ""), _xlfn.CONCAT("Info: Sie können Ihrem Dokument noch optional ", IF('Einstellblatt Einspeiseanlage'!M15="","'Anlage' ",""), IF('Einstellblatt Einspeiseanlage'!O15="","'Ausführung' ",""), IF('Einstellblatt Einspeiseanlage'!Q15="","'Notizen' ",""), "als Information hinzufügen"), "Alles in Ordnung"))))))))} -> Info: Sie können Ihrem Dokument noch optional 'Anlage' 'Ausführung' 'Notizen' als Information hinzufügen
C55: Infotext Status | E55: {=IF(IFERROR(E48, 1)=0, 1, IF(C5=0, 1, IF(D5=0, 1, IF(E5=0, 1, IF(F5=0, 1, IF(AND(G22<1, E5 = 1),1, IF(D5=2,2, IF(OR('Einstellblatt Einspeiseanlage'!M15:M17="",'Einstellblatt Einspeiseanlage'!O15:O17= "",'Einstellblatt Einspeiseanlage'!Q15:V17= ""), 3,4))))))))} -> 3
C58: Infotext | E58: =IF(OR('Einstellblatt Einspeiseanlage'!C15="",'Einstellblatt Einspeiseanlage'!E15= "",'Einstellblatt Einspeiseanlage'!G15= ""), _xlfn.CONCAT("Info: Sie können Ihrem Dokument noch optional ", IF('Einstellblatt Einspeiseanlage'!C15="","'Anlage' ",""), IF('Einstellblatt Einspeiseanlage'!E15="","'Ausführung' ",""), IF('Einstellblatt Einspeiseanlage'!G15="","'Notizen' ",""), "als Information hinzufügen"), "Alles in Ordnung") -> Info: Sie können Ihrem Dokument noch optional 'Anlage' 'Ausführung' 'Notizen' als Information hinzufügen
C61: Warnungen | E61: =IF(D5=2,"ACHTUNG! LVRT-Fähigkeit wurde auf NEIN gestellt!", "Keine Warnungen anstehend") -> Keine Warnungen anstehend
C64: Fehler | E64: =_xlfn.CONCAT(IF(IFERROR(E48, 1)=0, "Fehler: Berechnung versagt ",""), IF(C5=0, "Fehler: Bitte Generatortype wählen ",""), IF(D5=0, "Fehler: Bitte LVRT-Fähigkeit wählen ",""), IF(E5=0, "Fehler: Bitte Messspannung wählen ",""), IF(F5=0, "Fehler: Bitte Region wählen ",""), IF(AND(G22<1, E5 = 1), "Fehler: Bitte Transformator-Übersetzung wählen ",""), IF(E55>1,"Keine Fehler anstehend","")) -> Keine Fehler anstehend

Sheet Hilfe
A1: Hilfestellungen zum Einstellblatt
A6: <<< scrollen für weitere Punkte
C8: LVRT - Fähigkeit | D8: Zurück | H8: Übersicht
H10: 1 | I10: LVRT-Fähigkeit
C11: Muss bei jeder Anlage ab Inbetriebnahmedatum 01.01.2021 ausgeführt sein! | E11: Hilfestellung Nummer 1
H12: 2 | I12: Trafo-Übersetzung
H14: 3 | I14: Region
A36: <<< scrollen für weitere Punkte >>>
C38: Ich brauche Hilfe bei der Wahl der Transformatorübersetzung | D38: Zurück | H38: Übersicht
H40: 1 | I40: LVRT-Fähigkeit
C41: Findet sich auf dem Typenschild des Transformators. Beispiel Angabe am Typenschild " Oberspannung Stufe 1 23500, Stufe 2 23000, Stufe 3 22500, Unterspannung 0,420. Die Erhebung der Stufenschalterstellung ergab 2. Somit ist die Übersetzung 23000/420 = 54,76. Diese Zahl muss dann im Feld unter "Übersetzung" eingetragen werden. Wenn die Messung Mittelspannungsseitig erfolgt, ist keine Trafo-Übersetzung notwendig. Die hier verwendete Übersetzung des Messwandlers wird je nach Spannungsebene mit einem Standardwert angenommen. Sollte der tatsächliche Wert vom Standardwert abweichen, wenden Sie sich an die Abteilung Schutz- und Leittechnik der Vorarlberger Energienetze in Bregenz. | E41: Hilfestellung Nummer 2
H42: 2 | I42: Trafo-Übersetzung
H44: 3 | I44: Region
A66: scrollen für weitere Punkte >>>
C68: Ich brauche Hilfe bei der Wahl der Region | D68: Zurück | H68: Übersicht
H70: 1 | I70: LVRT-Fähigkeit
C71: Die genaue Region bestimmen zu können, ist oft nicht Trivial | E71: Hilfestellung Nummer 3
H72: 2 | I72: Trafo-Übersetzung
C73: Wenn Sie unter den gegebenen Regions-Optionen keine eindeutige Wahl treffen können, wenden Sie sich an die Abteilung Schutz- und Leittechnik der Vorarlberger Energienetze in Bregenz.
H74: 3 | I74: Region
